BEGIN:VCALENDAR
VERSION:2.0
PRODID:-//Mobil mit Behinderung e.V. - ECPv6.15.20//NONSGML v1.0//EN
CALSCALE:GREGORIAN
METHOD:PUBLISH
X-WR-CALNAME:Mobil mit Behinderung e.V.
X-ORIGINAL-URL:https://www.mobil-mit-behinderung.de
X-WR-CALDESC:Veranstaltungen für Mobil mit Behinderung e.V.
REFRESH-INTERVAL;VALUE=DURATION:PT1H
X-Robots-Tag:noindex
X-PUBLISHED-TTL:PT1H
BEGIN:VTIMEZONE
TZID:Europe/Berlin
BEGIN:DAYLIGHT
TZOFFSETFROM:+0100
TZOFFSETTO:+0200
TZNAME:CEST
DTSTART:20240331T010000
END:DAYLIGHT
BEGIN:STANDARD
TZOFFSETFROM:+0200
TZOFFSETTO:+0100
TZNAME:CET
DTSTART:20241027T010000
END:STANDARD
BEGIN:DAYLIGHT
TZOFFSETFROM:+0100
TZOFFSETTO:+0200
TZNAME:CEST
DTSTART:20250330T010000
END:DAYLIGHT
BEGIN:STANDARD
TZOFFSETFROM:+0200
TZOFFSETTO:+0100
TZNAME:CET
DTSTART:20251026T010000
END:STANDARD
BEGIN:DAYLIGHT
TZOFFSETFROM:+0100
TZOFFSETTO:+0200
TZNAME:CEST
DTSTART:20260329T010000
END:DAYLIGHT
BEGIN:STANDARD
TZOFFSETFROM:+0200
TZOFFSETTO:+0100
TZNAME:CET
DTSTART:20261025T010000
END:STANDARD
END:VTIMEZONE
BEGIN:VEVENT
DTSTART;TZID=Europe/Berlin:20250203T200000
DTEND;TZID=Europe/Berlin:20250203T220000
DTSTAMP:20260425T220250
CREATED:20250120T095821Z
LAST-MODIFIED:20250120T100144Z
UID:11589-1738612800-1738620000@www.mobil-mit-behinderung.de
SUMMARY:Online-Stammtisch Februar
DESCRIPTION:  \nEinladung zum Online-Stammtisch am \n\n Februar 2025 um 20:00 Uhr ein.\n\nDie anfänglichen Gesprächsthemen sind: \n\nWas erhoffen oder befürchten wir vom zu erwartenden Bundes-Regierungswechsel speziell für unsere Situation?\nNoch wissen wir nicht\, wer gewählt wird. Es verspricht\, spannend zu werden.\nAußerklinische Intensivpflege – Richtlinie zur außerklinischen Intensivpflege erneut angepasst.\nWen von uns betrifft das?\nLink dazu: https://www.g-ba.de/presse/pressemitteilungen-meldungen/1225/ \n\n… und was uns sonst noch so einfällt. \nZu- oder absagen muss niemand. Wie üblich: Wer kommt\, ist da – wer nicht\, nicht. \nEuer MMB Team
URL:https://www.mobil-mit-behinderung.de/termin/online-stammtisch/
LOCATION:Online
CATEGORIES:Termine
ORGANIZER;CN="Mobil mit Behinderung e.V.":MAILTO:info@mobil-mit-behinderung.de
END:VEVENT
BEGIN:VEVENT
DTSTART;TZID=Europe/Berlin:20250208T130000
DTEND;TZID=Europe/Berlin:20250208T170000
DTSTAMP:20260425T220250
CREATED:20250120T075339Z
LAST-MODIFIED:20250120T075849Z
UID:11580-1739019600-1739034000@www.mobil-mit-behinderung.de
SUMMARY:Regiotreff Karlsruhe
DESCRIPTION:Am 8.2.2025 \, von 13 bis ca.16 Uhr\, findet unser Regiotreff in der Herbert-Schweizer-Begegnungsstätte\, Niddastr. 9\, 76229 Karlsruhe\, statt.  \nAb 12 Uhr ist  Kaffee und Kuchen für alle da. Mittagessen\, wie es momentan aussieht\, nur von Gegenüber bei Kebap – Abu. \nWir werden von der Firma Lohmann und Rauscher interessante Dinge zu Bandagierungen aller Art\, z.b. bei Lymphödemen und offenen Beinen\, erfahren. Vor allem\, was alles über die Krankenkasse abrechnungsfähig ist\, da es als Hilfsmittel mit der entsprechenden Nummer deklariert ist.  \nEs besteht auch die Möglichkeit\, diese Materialen und Arten der Bandagierungen an sich selber zu probieren und zu testen.   \nEine Anmeldung ist dringend erforderlich bis zum 5.2.2025! Vor allem\, wie viele Personen kommen. \nBitte nur bei: \nkarin.breunig@mobil-mit-behinderung.de\noder\nkarin.breunig@web.de \nanmelden. \nIch würde mich sehr freuen\, wenn ich viele von euch begrüßen dürfte \nEure\nKarin
URL:https://www.mobil-mit-behinderung.de/termin/regiotreff-karlsruhe-4/
LOCATION:Baden-Württemberg
CATEGORIES:Karlsruhe,Mobiltreffs
END:VEVENT
BEGIN:VEVENT
DTSTART;TZID=Europe/Berlin:20250216T140000
DTEND;TZID=Europe/Berlin:20250216T140000
DTSTAMP:20260425T220251
CREATED:20250120T080945Z
LAST-MODIFIED:20250120T081038Z
UID:11585-1739714400-1739714400@www.mobil-mit-behinderung.de
SUMMARY:Fasnet für Menschen mit und ohne Behinderung im Zollern-Alb-Kreis
DESCRIPTION:Herzliche Einladung zu einer schon traditionellen Fasnets-Veranstaltung nach Obernheim \nSehr geehrte Damen und Herren\, \nseit Jahrzehnten arbeiten die Selbsthilfe Körperbehinderter Zollernalbgruppe e.V. (ZAG) und der DRK-Ortsverein Obernheim-Oberdigisheim für unsere Mitmenschen\, sehr gut zusammen. Zum Jahresbeginn starten wir mit einer erlebenswerten Fasnets-Veranstaltung für Menschen mit und ohne Handicap. \nZur 48. Veranstaltung dieser Art am \nSamstag\, 15. Februar 2025\, 14.00 Uhr\, \n in der Mehrzweckhalle in 72364 Obernheim\, Am Steigle 8\, \nladen wir Sie herzlich ein! \nBei dieser fröhlichen und lockeren Veranstaltung erwarten Sie schwungvolle Musikgruppen\, die Obernheimer Hexen mit ihrem Tanz\, Beiträge der Besuchergruppen\, attraktive Ballettauftritte\, eine Rollstuhl-Polonaise und eine grandiose Stimmung. \nFreier Eintritt ist bei dieser Veranstaltung gute Tradition\, denn alle Mitwirkenden sind für Sie als Gäste\, ohne jegliche Entschädigung\, mit dabei. Die Veranstalter danken den Akteuren hierfür herzlich! \nMelden Sie sich bitte bis Freitag\, 09. Februar\, an und teilen mit\, ob Sie \n-einen Beitrag zum Programm beisteuern wollen\, \n-wie viele Sitzplätze und Rollstuhl-Plätze wir reservieren dürfen und \n-ob sie einen reservierten Parkplatz für Rollstuhlfahrer benötigen. \nUnsere Bereitschaftsleiterin Frau Ulrike Scheurer freut sich auf Ihre Anmeldung unter\nE-Mail ulrike.scheurer@t-online.de\,\nFax 07436/910141\,\nTelefon 07436/87220 (mit Anrufbeantworter). \nBringen Sie Angehörige\, Freunde und Bekannte mit\, wir freuen uns auf Sie! \nWir grüßen\, wie die Obernheimer Hexen\, mit drei kräftigen\nO-ho\, O-ho\, O-ho\nund dem allgemeinen Narrenruf\nNarri-Narro! \nGeorg Maier                                                Hildegard Bayer \nDRK-Vorsitzender                                      Vorsitzende der ZAG-Gruppe
URL:https://www.mobil-mit-behinderung.de/termin/fasnet-fuer-menschen-mit-und-ohne-behinderung-im-zollern-alb-kreis/
LOCATION:Baden-Württemberg
CATEGORIES:Mobiltreffs,Zollern Alb Kreis
END:VEVENT
END:VCALENDAR