BEGIN:VCALENDAR
VERSION:2.0
PRODID:-//Mobil mit Behinderung e.V. - ECPv6.15.20//NONSGML v1.0//EN
CALSCALE:GREGORIAN
METHOD:PUBLISH
X-ORIGINAL-URL:https://www.mobil-mit-behinderung.de
X-WR-CALDESC:Veranstaltungen für Mobil mit Behinderung e.V.
REFRESH-INTERVAL;VALUE=DURATION:PT1H
X-Robots-Tag:noindex
X-PUBLISHED-TTL:PT1H
BEGIN:VTIMEZONE
TZID:Europe/Berlin
BEGIN:DAYLIGHT
TZOFFSETFROM:+0100
TZOFFSETTO:+0200
TZNAME:CEST
DTSTART:20240331T010000
END:DAYLIGHT
BEGIN:STANDARD
TZOFFSETFROM:+0200
TZOFFSETTO:+0100
TZNAME:CET
DTSTART:20241027T010000
END:STANDARD
BEGIN:DAYLIGHT
TZOFFSETFROM:+0100
TZOFFSETTO:+0200
TZNAME:CEST
DTSTART:20250330T010000
END:DAYLIGHT
BEGIN:STANDARD
TZOFFSETFROM:+0200
TZOFFSETTO:+0100
TZNAME:CET
DTSTART:20251026T010000
END:STANDARD
BEGIN:DAYLIGHT
TZOFFSETFROM:+0100
TZOFFSETTO:+0200
TZNAME:CEST
DTSTART:20260329T010000
END:DAYLIGHT
BEGIN:STANDARD
TZOFFSETFROM:+0200
TZOFFSETTO:+0100
TZNAME:CET
DTSTART:20261025T010000
END:STANDARD
END:VTIMEZONE
BEGIN:VEVENT
DTSTART;TZID=Europe/Berlin:20250303T200000
DTEND;TZID=Europe/Berlin:20250303T220000
DTSTAMP:20260425T200733
CREATED:20250302T125219Z
LAST-MODIFIED:20250302T125219Z
UID:11612-1741032000-1741039200@www.mobil-mit-behinderung.de
SUMMARY:MMB Onlinestammtisch
DESCRIPTION:1. REHAB 2025 – Ideen und Anregungen für die kommende Fachmesse.\n2. Arbeitsgruppe für die Belange von Menschen mit dem Merkzeichen „G“ – Diskussion über neue Projekte und Unterstützungsmöglichkeiten für Menschen mit diesem Merkzeichen. \n 
URL:https://www.mobil-mit-behinderung.de/termin/mmb-onlinestammtisch/
LOCATION:Baden-Württemberg
END:VEVENT
END:VCALENDAR