BEGIN:VCALENDAR
VERSION:2.0
PRODID:-//Mobil mit Behinderung e.V. - ECPv6.15.20//NONSGML v1.0//EN
CALSCALE:GREGORIAN
METHOD:PUBLISH
X-WR-CALNAME:Mobil mit Behinderung e.V.
X-ORIGINAL-URL:https://www.mobil-mit-behinderung.de
X-WR-CALDESC:Veranstaltungen für Mobil mit Behinderung e.V.
REFRESH-INTERVAL;VALUE=DURATION:PT1H
X-Robots-Tag:noindex
X-PUBLISHED-TTL:PT1H
BEGIN:VTIMEZONE
TZID:Europe/Berlin
BEGIN:DAYLIGHT
TZOFFSETFROM:+0100
TZOFFSETTO:+0200
TZNAME:CEST
DTSTART:20250330T010000
END:DAYLIGHT
BEGIN:STANDARD
TZOFFSETFROM:+0200
TZOFFSETTO:+0100
TZNAME:CET
DTSTART:20251026T010000
END:STANDARD
BEGIN:DAYLIGHT
TZOFFSETFROM:+0100
TZOFFSETTO:+0200
TZNAME:CEST
DTSTART:20260329T010000
END:DAYLIGHT
BEGIN:STANDARD
TZOFFSETFROM:+0200
TZOFFSETTO:+0100
TZNAME:CET
DTSTART:20261025T010000
END:STANDARD
BEGIN:DAYLIGHT
TZOFFSETFROM:+0100
TZOFFSETTO:+0200
TZNAME:CEST
DTSTART:20270328T010000
END:DAYLIGHT
BEGIN:STANDARD
TZOFFSETFROM:+0200
TZOFFSETTO:+0100
TZNAME:CET
DTSTART:20271031T010000
END:STANDARD
END:VTIMEZONE
BEGIN:VEVENT
DTSTART;TZID=Europe/Berlin:20260328T120000
DTEND;TZID=Europe/Berlin:20260328T160000
DTSTAMP:20260424T220847
CREATED:20260223T201551Z
LAST-MODIFIED:20260223T201551Z
UID:12247-1774699200-1774713600@www.mobil-mit-behinderung.de
SUMMARY:Regiotreff Karlsruhe
DESCRIPTION:
URL:https://www.mobil-mit-behinderung.de/termin/regiotreff-karlsruhe-6/
LOCATION:Begegnungszentrum Grötzingen\, Niddastraße 9\, Karlsruhe\, Baden-Württemberg\, 76229\, Deutschland
CATEGORIES:Karlsruhe,Mobiltreffs
END:VEVENT
END:VCALENDAR