BEGIN:VCALENDAR
VERSION:2.0
PRODID:-//Mobil mit Behinderung e.V. - ECPv6.15.20//NONSGML v1.0//EN
CALSCALE:GREGORIAN
METHOD:PUBLISH
X-WR-CALNAME:Mobil mit Behinderung e.V.
X-ORIGINAL-URL:https://www.mobil-mit-behinderung.de
X-WR-CALDESC:Veranstaltungen für Mobil mit Behinderung e.V.
REFRESH-INTERVAL;VALUE=DURATION:PT1H
X-Robots-Tag:noindex
X-PUBLISHED-TTL:PT1H
BEGIN:VTIMEZONE
TZID:Europe/Berlin
BEGIN:DAYLIGHT
TZOFFSETFROM:+0100
TZOFFSETTO:+0200
TZNAME:CEST
DTSTART:20250330T010000
END:DAYLIGHT
BEGIN:STANDARD
TZOFFSETFROM:+0200
TZOFFSETTO:+0100
TZNAME:CET
DTSTART:20251026T010000
END:STANDARD
BEGIN:DAYLIGHT
TZOFFSETFROM:+0100
TZOFFSETTO:+0200
TZNAME:CEST
DTSTART:20260329T010000
END:DAYLIGHT
BEGIN:STANDARD
TZOFFSETFROM:+0200
TZOFFSETTO:+0100
TZNAME:CET
DTSTART:20261025T010000
END:STANDARD
BEGIN:DAYLIGHT
TZOFFSETFROM:+0100
TZOFFSETTO:+0200
TZNAME:CEST
DTSTART:20270328T010000
END:DAYLIGHT
BEGIN:STANDARD
TZOFFSETFROM:+0200
TZOFFSETTO:+0100
TZNAME:CET
DTSTART:20271031T010000
END:STANDARD
END:VTIMEZONE
BEGIN:VEVENT
DTSTART;TZID=Europe/Berlin:20260613T120000
DTEND;TZID=Europe/Berlin:20260613T170000
DTSTAMP:20260424T203314
CREATED:20260411T190606Z
LAST-MODIFIED:20260411T190606Z
UID:12289-1781352000-1781370000@www.mobil-mit-behinderung.de
SUMMARY:Regiotreff Karlsruhe
DESCRIPTION:Zoobesuch Karlsruhe \nAchtung:  Wir benutzen den Nebeneingang !!!!!!\nNordeingang\nFestplatz 7\n76137 Karlsruhe
URL:https://www.mobil-mit-behinderung.de/termin/regiotreff-karlsruhe-9/
LOCATION:Zoo Karlsruhe\, Ettlinger Str. 6\, Karlsruhe\, Baden-Württemberg\, 76137
END:VEVENT
END:VCALENDAR