BEGIN:VCALENDAR
VERSION:2.0
PRODID:-//Mobil mit Behinderung e.V. - ECPv6.15.20//NONSGML v1.0//EN
CALSCALE:GREGORIAN
METHOD:PUBLISH
X-ORIGINAL-URL:https://www.mobil-mit-behinderung.de
X-WR-CALDESC:Veranstaltungen für Mobil mit Behinderung e.V.
REFRESH-INTERVAL;VALUE=DURATION:PT1H
X-Robots-Tag:noindex
X-PUBLISHED-TTL:PT1H
BEGIN:VTIMEZONE
TZID:Europe/Berlin
BEGIN:DAYLIGHT
TZOFFSETFROM:+0100
TZOFFSETTO:+0200
TZNAME:CEST
DTSTART:20250330T010000
END:DAYLIGHT
BEGIN:STANDARD
TZOFFSETFROM:+0200
TZOFFSETTO:+0100
TZNAME:CET
DTSTART:20251026T010000
END:STANDARD
BEGIN:DAYLIGHT
TZOFFSETFROM:+0100
TZOFFSETTO:+0200
TZNAME:CEST
DTSTART:20260329T010000
END:DAYLIGHT
BEGIN:STANDARD
TZOFFSETFROM:+0200
TZOFFSETTO:+0100
TZNAME:CET
DTSTART:20261025T010000
END:STANDARD
BEGIN:DAYLIGHT
TZOFFSETFROM:+0100
TZOFFSETTO:+0200
TZNAME:CEST
DTSTART:20270328T010000
END:DAYLIGHT
BEGIN:STANDARD
TZOFFSETFROM:+0200
TZOFFSETTO:+0100
TZNAME:CET
DTSTART:20271031T010000
END:STANDARD
END:VTIMEZONE
BEGIN:VEVENT
DTSTART;TZID=Europe/Berlin:20260424T140000
DTEND;TZID=Europe/Berlin:20260426T140000
DTSTAMP:20260424T170604
CREATED:20260317T070954Z
LAST-MODIFIED:20260317T085019Z
UID:12261-1777039200-1777212000@www.mobil-mit-behinderung.de
SUMMARY:Mitgliederversammlung 2026
DESCRIPTION:MMB_MV-Programm 2026 \nMV_Tagesordnung_2026 \nAnmeldung zur MV 2026 \nEinladung MMB Mitgliederversamlung 2026 \n  \nLiebe MMB-Mitglieder\, \nLiebe Mitglieder des Vereins „Mobil mit Behinderung e.V.“ \ndie Mitgliederversammlung findet am 25.04.2026 in der Manfred Sauer-Stiftung\, Neurott 20\, 74931 Lobbach ab 15 Uhr statt. \nEs gibt viel zu berichten und bestimmt noch viel mehr zu erzählen. Daher möchten wir die Mitgliederversammlung\, fast möchte ich traditionsgemäß sagen\, am ganzen Wochenende\, also vom 24.04.2026 bis 26.04.2026\, abhalten. \nDiejenigen\, die von weither anreisen können bereits Freitags ankommen. Den Freitag nutzen wir immer zum persönlichen Austausch und Kennen lernen. Am Samstagvormittag möchte sich gern unser neues Presse-Team vorstellen und mit Euch gemeinsam über die Zukunft des MMB diskutieren. \nDer Nachmittag ist der MV vorbehalten. Tagesgäste sind hier herzlich willkommen. Wir haben nicht nur Vorstandswahlen\, sondern auch über Satzungsänderungen abzustimmen. \nDie aktuell amtierenden Vorstandsmitglieder stellen sich für die nächsten 3 Jahre erneut zur Wahl. Die Kandidaturen findet Ihr in der Anlage. Selbstverständlich steht es jedem Mitglied frei\, sich für die Mitarbeit im Vorstand zu bewerben. Sende dazu bitte eine Email an: \ninfo@mobil-mit-behinderung.de <mailto:info@mobil-mit-behinderung.de> \nSchreib bitte für welche Funktion Du Dich bewerben möchtest  und warum es Dich wichtig ist\, diese Funktion zu besetzen. Nimm Dir die beiliegenden Kandidaturen als Vorlage. \nAuf dieses Jahr freue ich mich ganz besonders. Es gibt wirklich über viel Neues zu berichten. Die Zeit während der MV wird dazu kaum ausreichen\, darum möchte ich Euch den Vormittag ans Herz legen\, wo sich das Presseteam vorstellen wird und Daniel und ich über die Highlights des vergangenen Jahres berichten wird\, aber auch über neue Aufgaben\, für deren Mitwirkung wir werben möchten. Hier wäre das IT-Team oder das Beraterteam besonders zu erwähnen. \nWer nicht an der Mitgliederversammlung vor Ort teilnehmen kann\, dem bieten wir die Möglichkeit die MV ONLINE mitverfolgen zu können. Melde Dich bitte per Email bei Daniel Sanchez: \ndaniel.sanchez@mobil-mit-behinderung.de <mailto:daniel.sanchez@mobil-mit-behinderung.de> \nEr wird Dir den Online Link zusenden. Du kannst Dich damit am Geschehen beteiligen\, z.B. kannst Du über den CHAT Fragen stellen. \nAn Abstimmungen / Wahlen kannst Du nicht mitwirken. \nMit freundlichen Grüßen \nHeinrich Buschmann
URL:https://www.mobil-mit-behinderung.de/termin/mitgliederversammlung-2026/
LOCATION:Manfred-Sauer-Stiftung\, Neurott 20\, Lobbach\, Baden-Württemberg\, 74931\, Deutschland
END:VEVENT
END:VCALENDAR